BEGIN:VCALENDAR
VERSION:2.0
PRODID:icalendar-ruby
CALSCALE:GREGORIAN
METHOD:PUBLISH
BEGIN:VTIMEZONE
TZID:Australia/Sydney
BEGIN:DAYLIGHT
DTSTART:20191006T030000
TZOFFSETFROM:+1000
TZOFFSETTO:+1100
RRULE:FREQ=YEARLY;BYDAY=1SU;BYMONTH=10
TZNAME:AEDT
END:DAYLIGHT
BEGIN:STANDARD
DTSTART:20200405T020000
TZOFFSETFROM:+1100
TZOFFSETTO:+1000
RRULE:FREQ=YEARLY;BYDAY=1SU;BYMONTH=4
TZNAME:AEST
END:STANDARD
END:VTIMEZONE
BEGIN:VEVENT
DTSTAMP:20200301T011352Z
UID:inspection_725454
DTSTART;TZID=Australia/Sydney:20200312T173000
DTEND;TZID=Australia/Sydney:20200312T180000
CLASS:PUBLIC
CREATED:20200226T154832
DESCRIPTION: 
LAST-MODIFIED:20200226T154832
LOCATION:116 / 3 Mallard Lane\, WARRIEWOOD NSW 2102\, Australia
SUMMARY:116 / 3 Mallard Lane\,  Inspection
URL:http://www.jrlanding.com.au
END:VEVENT
END:VCALENDAR
